BEGIN:VCALENDAR
VERSION:2.0
PRODID:-//Apalachicola National Estuarine Research Reserve - ECPv6.15.20//NONSGML v1.0//EN
CALSCALE:GREGORIAN
METHOD:PUBLISH
X-WR-CALNAME:Apalachicola National Estuarine Research Reserve
X-ORIGINAL-URL:https://www.apalachicolareserve.com
X-WR-CALDESC:Events for Apalachicola National Estuarine Research Reserve
REFRESH-INTERVAL;VALUE=DURATION:PT1H
X-Robots-Tag:noindex
X-PUBLISHED-TTL:PT1H
BEGIN:VTIMEZONE
TZID:America/New_York
BEGIN:DAYLIGHT
TZOFFSETFROM:-0500
TZOFFSETTO:-0400
TZNAME:EDT
DTSTART:20250309T070000
END:DAYLIGHT
BEGIN:STANDARD
TZOFFSETFROM:-0400
TZOFFSETTO:-0500
TZNAME:EST
DTSTART:20251102T060000
END:STANDARD
BEGIN:DAYLIGHT
TZOFFSETFROM:-0500
TZOFFSETTO:-0400
TZNAME:EDT
DTSTART:20260308T070000
END:DAYLIGHT
BEGIN:STANDARD
TZOFFSETFROM:-0400
TZOFFSETTO:-0500
TZNAME:EST
DTSTART:20261101T060000
END:STANDARD
BEGIN:DAYLIGHT
TZOFFSETFROM:-0500
TZOFFSETTO:-0400
TZNAME:EDT
DTSTART:20270314T070000
END:DAYLIGHT
BEGIN:STANDARD
TZOFFSETFROM:-0400
TZOFFSETTO:-0500
TZNAME:EST
DTSTART:20271107T060000
END:STANDARD
END:VTIMEZONE
BEGIN:VEVENT
DTSTART;TZID=America/New_York:20260212T100000
DTEND;TZID=America/New_York:20260212T113000
DTSTAMP:20260420T002036
CREATED:20251210T172916Z
LAST-MODIFIED:20251210T172916Z
UID:3537-1770890400-1770895800@www.apalachicolareserve.com
SUMMARY:Oyster Ecology
DESCRIPTION:Learn about the role oysters play in the health of Apalachicola Bay. Discover what makes the bay so ideal for growing oysters\, what gives our oysters their distinct flavor\, and how oyster bars benefit the ecosystem. We will also look at possible causes of the oysters collapse and what is being done to restore them to Apalachicola Bay. Participants will get the chance examine these creatures under our high-powered microscope\, and learn more about the animals that live in our bay and along the tidal flats. \nRegistration is free but required. To register go to: https://OysterClassFeb2026.eventbrite.com \n 
URL:https://www.apalachicolareserve.com/event/oyster-ecology-26/
LOCATION:Apalachicola National Estuarine Research Reserve\, 108 Island Dr.\, Eastpoint\, FL\, 32328\, United States
CATEGORIES:Stewardship Serise
ATTACH;FMTTYPE=image/jpeg:https://www.apalachicolareserve.com/wp-content/uploads/2024/08/oyster-clump-KW.jpg
END:VEVENT
BEGIN:VEVENT
DTSTART;TZID=America/New_York:20260218T130000
DTEND;TZID=America/New_York:20260218T143000
DTSTAMP:20260420T002036
CREATED:20251210T174106Z
LAST-MODIFIED:20251210T174106Z
UID:3539-1771419600-1771425000@www.apalachicolareserve.com
SUMMARY:Bay Friendly Landscaping
DESCRIPTION:Yard design and maintenance can have a big effect on adjacent water bodies. Participants in this workshop will learn about resources to help them transform their yard into a luscious bay conscious landscape. The class will feature resources on landscaping in Florida’s unique soil conditions\, where to buy plants and seeds\, innovative Green Infrastructure techniques such as rain gardens\, green roofs\, and bio-swales. Come find out how to be good to the bay and reduce the time you spend on maintenance! \nPlease register for the class in advance: https://BayFriendlyLandscapingFeb2026.eventbrite.com \nFor information call or email Anita Grove at (850) 670-7708 Anita.Grove@FloridaDEP.gov
URL:https://www.apalachicolareserve.com/event/bay-friendly-landscaping-22/
LOCATION:Apalachicola National Estuarine Research Reserve\, 108 Island Dr.\, Eastpoint\, FL\, 32328\, United States
CATEGORIES:Stewardship Serise
ATTACH;FMTTYPE=image/jpeg:https://www.apalachicolareserve.com/wp-content/uploads/2024/08/White-Indigo-scaled.jpg
END:VEVENT
BEGIN:VEVENT
DTSTART;TZID=America/New_York:20260220T123000
DTEND;TZID=America/New_York:20260220T163000
DTSTAMP:20260420T002036
CREATED:20251210T174704Z
LAST-MODIFIED:20251210T174704Z
UID:3541-1771590600-1771605000@www.apalachicolareserve.com
SUMMARY:Apalachicola River & Floodplain Exploration
DESCRIPTION:The Apalachicola River has been called “the Lifeblood of the Bay.” Come learn about the ecology\, culture\, and history of the Apalachicola River and floodplain\, and the impact interstate relationships play in the control of the river. After the in-class portion\, we will embark on a journey up the river aboard the ANERR research vessel Henry Lee to get an up-close look at some of the floodplain ecosystems and distributaries of the river.\nThis class is free\, however reservations are required. \nThis class seeks to help residents of Franklin and neighboring counties understand the value of this connected ecosystem. Participants will learn about the ecology\, culture\, and history of the Apalachicola River and floodplain\, as well as the Bay to come to appreciate the impact of these systems. After the in-class portion\, participants will embark on a journey up the river aboard the Reserve’s research vessel to get an up-close look at some of the floodplain ecosystems and distributaries of the river.  \nPlease Note:\nThis trip will require moderate walking and climbing in and out of a boat.\nThis class is intended for adult education purposes\, so we kindly ask that people registering be 16 years or older.\nIf you have taken this class before\, please withhold from making reservations allowing others a chance to learn. \nTickets for the class are free but must be claimed in advance by registering on Eventbrite https://RiverClassFeb2026.eventbrite.com If you have any further questions\, email Anita Grove Anita.Grove@FloridaDep.gov.
URL:https://www.apalachicolareserve.com/event/apalachicola-river-floodplain-exploration-13/
LOCATION:Apalachicola National Estuarine Research Reserve\, 108 Island Dr.\, Eastpoint\, FL\, 32328\, United States
CATEGORIES:Stewardship Serise
ATTACH;FMTTYPE=image/jpeg:https://www.apalachicolareserve.com/wp-content/uploads/2024/08/AP-River-mouth-scaled.jpg
END:VEVENT
BEGIN:VEVENT
DTSTART;VALUE=DATE:20260226
DTEND;VALUE=DATE:20260227
DTSTAMP:20260420T002036
CREATED:20251021T125008Z
LAST-MODIFIED:20251021T125421Z
UID:3497-1772064000-1772150399@www.apalachicolareserve.com
SUMMARY:Reserve Symposium State of the Watershed: Threats\, Challenges\, and Opportunities
DESCRIPTION:Join the Apalachicola National Estuarine Research Reserve for its 5th Symposium: State of the Watershed: Threats\, Challenges\, and Opportunities. This two-day in-person symposium will highlight research\, restoration\, and partnerships within the Reserve and adjacent areas. It will feature sessions on river and floodplain ecology\, metabolism\, habitat status and changes\, and restoration.\nThis symposium offers a valuable forum to exchange knowledge\, foster collaboration\, and inspire science-based solutions that strengthen stewardship of this nationally significant estuarine system. Through presentations and discussions\, participants will deepen their understanding of the watershed’s current condition\, identify emerging threats\, and explore opportunities to sustain its long-term health and productivity. To register go to: https://www.eventbrite.com/e/state-of-the-watershed-threats-challenges-and-opportunities-symposium-tickets-1796630994669?aff=oddtdtcreator  \nThursday\, February 26th 9 a.m. to 4 p.m. EST\nReception and poster session to follow 4:15 – 6 p.m. EST \nFriday\, February 27th 9 a.m. to 12 p.m. EST
URL:https://www.apalachicolareserve.com/event/reserve-symposium-state-of-the-watershed-threats-challenges-and-opportunities/
LOCATION:Apalachicola National Estuarine Research Reserve\, 108 Island Dr.\, Eastpoint\, FL\, 32328\, United States
ATTACH;FMTTYPE=image/jpeg:https://www.apalachicolareserve.com/wp-content/uploads/2024/07/0000251_photo-scaled.jpg
END:VEVENT
END:VCALENDAR