BEGIN:VCALENDAR
VERSION:2.0
PRODID:-//Apalachicola National Estuarine Research Reserve - ECPv6.15.20//NONSGML v1.0//EN
CALSCALE:GREGORIAN
METHOD:PUBLISH
X-WR-CALNAME:Apalachicola National Estuarine Research Reserve
X-ORIGINAL-URL:https://www.apalachicolareserve.com
X-WR-CALDESC:Events for Apalachicola National Estuarine Research Reserve
REFRESH-INTERVAL;VALUE=DURATION:PT1H
X-Robots-Tag:noindex
X-PUBLISHED-TTL:PT1H
BEGIN:VTIMEZONE
TZID:America/New_York
BEGIN:DAYLIGHT
TZOFFSETFROM:-0500
TZOFFSETTO:-0400
TZNAME:EDT
DTSTART:20240310T070000
END:DAYLIGHT
BEGIN:STANDARD
TZOFFSETFROM:-0400
TZOFFSETTO:-0500
TZNAME:EST
DTSTART:20241103T060000
END:STANDARD
BEGIN:DAYLIGHT
TZOFFSETFROM:-0500
TZOFFSETTO:-0400
TZNAME:EDT
DTSTART:20250309T070000
END:DAYLIGHT
BEGIN:STANDARD
TZOFFSETFROM:-0400
TZOFFSETTO:-0500
TZNAME:EST
DTSTART:20251102T060000
END:STANDARD
BEGIN:DAYLIGHT
TZOFFSETFROM:-0500
TZOFFSETTO:-0400
TZNAME:EDT
DTSTART:20260308T070000
END:DAYLIGHT
BEGIN:STANDARD
TZOFFSETFROM:-0400
TZOFFSETTO:-0500
TZNAME:EST
DTSTART:20261101T060000
END:STANDARD
END:VTIMEZONE
BEGIN:VEVENT
DTSTART;TZID=America/New_York:20250930T173000
DTEND;TZID=America/New_York:20251231T190000
DTSTAMP:20260420T035745
CREATED:20250905T145431Z
LAST-MODIFIED:20250905T145903Z
UID:3467-1759253400-1767207600@www.apalachicolareserve.com
SUMMARY:Fishy Fashion Show
DESCRIPTION:Friends\, Romans\, Countrymen\, Lend Me Your Beach Debris! Fishy Fashions and the Apalachicola National Estuarine Research Reserve is pleased to announce a special installation in our nature center. Fishy Fashions are marvelously inventive costumes made from flotsam and jetsam and assorted beach debris. This exhibition will begin with a kick-off event\, “Fishy Fashion Show\,” on Tuesday September 30th at 5:30PM.  This fun and educational art and science collaboration will feature original artistic costumes created by local artist Joan Matey\, sculptures and fashion accessories created by Franklin County School art class students\, as well as educational materials to help increase awareness of the causes and amount of marine debris affecting our oceans. The exhibit will be viewable in the Apalachicola National Research Reserve’s Nature Center on September 30th and through the end of December 2025.
URL:https://www.apalachicolareserve.com/event/fishy-fashion-show/
LOCATION:FL
END:VEVENT
BEGIN:VEVENT
DTSTART;TZID=America/New_York:20251205T090000
DTEND;TZID=America/New_York:20251205T130000
DTSTAMP:20260420T035745
CREATED:20250819T164824Z
LAST-MODIFIED:20250821T140056Z
UID:3436-1764925200-1764939600@www.apalachicolareserve.com
SUMMARY:Apalachicola River & Floodplain Exploration
DESCRIPTION:The Apalachicola River has been called “the Lifeblood of the Bay.” Come learn about the ecology\, culture\, and history of the Apalachicola River and floodplain\, and the impact interstate relationships play in the control of the river. After the in-class portion\, we will embark on a journey up the river aboard the ANERR research vessel Henry Lee to get an up-close look at some of the floodplain ecosystems and distributaries of the river.\nThis class is free\, however reservations are required. \nThis class seeks to help residents of Franklin and neighboring counties understand the value of this connected ecosystem. Participants will learn about the ecology\, culture\, and history of the Apalachicola River and floodplain\, as well as the Bay to come to appreciate the impact of these systems. After the in-class portion\, participants will embark on a journey up the river aboard the Reserve’s research vessel to get an up-close look at some of the floodplain ecosystems and distributaries of the river.  \nPlease Note:\nThis trip will require moderate walking and climbing in and out of a boat.\nThis class is intended for adult education purposes\, so we kindly ask that people registering be 16 years or older.\nIf you have taken this class before\, please withhold from making reservations allowing others a chance to learn. \nTickets for the class are free but must be claimed in advance by registering on Eventbrite https://ApalachicolaRiverFall2025.eventbrite.com If you have any further questions\, email Anita Grove Anita.Grove@FloridaDep.gov.
URL:https://www.apalachicolareserve.com/event/apalachicola-river-floodplain-exploration-15/
LOCATION:Apalachicola National Estuarine Research Reserve\, 108 Island Dr.\, Eastpoint\, FL\, 32328\, United States
CATEGORIES:Stewardship Serise
ATTACH;FMTTYPE=image/jpeg:https://www.apalachicolareserve.com/wp-content/uploads/2024/08/AP-River-mouth-scaled.jpg
END:VEVENT
BEGIN:VEVENT
DTSTART;TZID=America/New_York:20251215T090000
DTEND;TZID=America/New_York:20251215T163000
DTSTAMP:20260420T035745
CREATED:20251118T150718Z
LAST-MODIFIED:20251118T150718Z
UID:3515-1765789200-1765816200@www.apalachicolareserve.com
SUMMARY:The Collection of Historical and Cultural Resources on State Lands
DESCRIPTION:Join the Department of Environmental Protection’s (DEP) training on the Collection of Historical and Cultural Resources on State Lands. Attendance is free and open to law enforcement and state and local government agencies only. Instruction will be provided on the rules and regulations surrounding historical resources found on sovereign submerged lands and the proper authorizations required for their collection. Additionally\, vertebrate fossils\, artifacts and deadhead log specimens will be presented in this hands-on training. Register by Dec. 12\, 2025 to reserve a seat in this course.\n*This training is not a substitute for Division of Historical Resource’s Archeological Resource Management training. \nThe training will be broken up in two portions: classroom instruction in the morning and an off-site historical and archeology tour in the afternoon. The lunch break is scheduled between 12:30 p.m. to 1:20 p.m. EDT.\nAdditional tour information and location will be provided following updated weather forecasts. While participation in the afternoon session is not required\, it is a valuable opportunity to observe land management strategies in relation to this resources. Wear comfortable\, closed-toe shoes. Hat\, insect repellent\, water and sunscreen are recommended.\nDEP EMPLOYEES: The course will be listed on PeopleFirst training LMS system after its completion.\nClass ID#: 18868\nCourse Title: The Collection of Historical/Cultural Resources on State Lands and Resource Impacts
URL:https://www.apalachicolareserve.com/event/the-collection-of-historical-and-cultural-resources-on-state-lands/
LOCATION:Apalachicola National Estuarine Research Reserve\, 108 Island Dr.\, Eastpoint\, FL\, 32328\, United States
CATEGORIES:Stewardship Serise
ATTACH;FMTTYPE=image/png:https://www.apalachicolareserve.com/wp-content/uploads/2025/11/Pottery-on-LSGI.png
END:VEVENT
BEGIN:VEVENT
DTSTART;TZID=America/New_York:20251216T130000
DTEND;TZID=America/New_York:20251216T143000
DTSTAMP:20260420T035745
CREATED:20250819T134602Z
LAST-MODIFIED:20250819T134602Z
UID:3427-1765890000-1765895400@www.apalachicolareserve.com
SUMMARY:Bay Friendly Landscaping
DESCRIPTION:Yard design and maintenance can have a big effect on adjacent water bodies. Participants in this workshop will learn about resources to help them transform their yard into a luscious bay conscious landscape. The class will feature resources on landscaping in Florida’s unique soil conditions\, where to buy plants and seeds\, innovative Green Infrastructure techniques such as rain gardens\, green roofs\, and bio-swales. Come find out how to be good to the bay and reduce the time you spend on maintenance! \nPlease register for the class in advance: https://BayFriendlyLandscapingfall2025.eventbrite.com \nFor information call or email Anita Grove at (850) 670-7708 Anita.Grove@FloridaDEP.gov
URL:https://www.apalachicolareserve.com/event/bay-friendly-landscaping-21/
LOCATION:Apalachicola National Estuarine Research Reserve\, 108 Island Dr.\, Eastpoint\, FL\, 32328\, United States
CATEGORIES:Stewardship Serise
ATTACH;FMTTYPE=image/jpeg:https://www.apalachicolareserve.com/wp-content/uploads/2024/08/White-Indigo-scaled.jpg
END:VEVENT
BEGIN:VEVENT
DTSTART;TZID=America/New_York:20251217T100000
DTEND;TZID=America/New_York:20251217T113000
DTSTAMP:20260420T035745
CREATED:20250819T173052Z
LAST-MODIFIED:20250819T173052Z
UID:3450-1765965600-1765971000@www.apalachicolareserve.com
SUMMARY:Oyster Ecology
DESCRIPTION:Learn about the role oysters play in the health of Apalachicola Bay. Discover what makes the bay so ideal for growing oysters\, what gives our oysters their distinct flavor\, and how oyster bars benefit the ecosystem. We will also look at possible causes of the oysters collapse and what is being done to restore them to Apalachicola Bay. Participants will get the chance examine these creatures under our high-powered microscope\, and learn more about the animals that live in our bay and along the tidal flats. \nRegistration is free but required. To register go to: https://Oysterclass2025fall.eventbrite.com \n 
URL:https://www.apalachicolareserve.com/event/oyster-ecology-24/
LOCATION:Apalachicola National Estuarine Research Reserve\, 108 Island Dr.\, Eastpoint\, FL\, 32328\, United States
CATEGORIES:Stewardship Serise
ATTACH;FMTTYPE=image/jpeg:https://www.apalachicolareserve.com/wp-content/uploads/2024/08/oyster-clump-KW.jpg
END:VEVENT
BEGIN:VEVENT
DTSTART;TZID=America/New_York:20251217T150000
DTEND;TZID=America/New_York:20251217T160000
DTSTAMP:20260420T035745
CREATED:20251007T173632Z
LAST-MODIFIED:20251007T173632Z
UID:3489-1765983600-1765987200@www.apalachicolareserve.com
SUMMARY:Productivity at the Bottom of Apalachicola Bay
DESCRIPTION:Harry Mumma\, the Reserve’s Davidson fellow and Notre Dame PhD candidate is studying ecosystem metabolism over Eastbay using several different instruments that measure CO2\, O2\, and other water quality parameters at different areas within the water column. By collecting data monthly and at different habitats over two years\, the study will look at how metabolism varies with season\, under different freshwater flow regimes to the bay\, and in different habitat types. Harry will share some of the data he has analyzed\, and his sampling will continue into 2026. To register go to: https://attendee.gotowebinar.com/register/8157151872667961436 After registering\, you will receive a confirmation email containing information about joining the webinar.
URL:https://www.apalachicolareserve.com/event/productivity-at-the-bottom-of-apalachicola-bay/
LOCATION:GoToWebinar\, online
CATEGORIES:Sci-Cafe
ATTACH;FMTTYPE=image/jpeg:https://www.apalachicolareserve.com/wp-content/uploads/2025/10/Harry-deploying-in-water-scaled.jpg
END:VEVENT
BEGIN:VEVENT
DTSTART;TZID=America/New_York:20251219T090000
DTEND;TZID=America/New_York:20251219T130000
DTSTAMP:20260420T035745
CREATED:20250819T165706Z
LAST-MODIFIED:20250821T140031Z
UID:3443-1766134800-1766149200@www.apalachicolareserve.com
SUMMARY:Apalachicola Estuary Exploration
DESCRIPTION:Join us to explore the estuary we depend on\, Apalachicola Bay and its connected ecosystem. Learn about the habitats and inhabitants of the estuary and how the river and bay are intricately linked. We will see these habitats up close aboard the Reserve’s research vessel the Tideline. This class is free; however\, reservations are required.
URL:https://www.apalachicolareserve.com/event/apalachicola-estuary-exploration-12/
LOCATION:Apalachicola National Estuarine Research Reserve\, 108 Island Dr.\, Eastpoint\, FL\, 32328\, United States
CATEGORIES:Stewardship Serise
ATTACH;FMTTYPE=image/jpeg:https://www.apalachicolareserve.com/wp-content/uploads/2024/07/0000251_photo-scaled.jpg
END:VEVENT
END:VCALENDAR