BEGIN:VCALENDAR
VERSION:2.0
PRODID:-//Apalachicola National Estuarine Research Reserve - ECPv6.15.20//NONSGML v1.0//EN
CALSCALE:GREGORIAN
METHOD:PUBLISH
X-ORIGINAL-URL:https://www.apalachicolareserve.com
X-WR-CALDESC:Events for Apalachicola National Estuarine Research Reserve
REFRESH-INTERVAL;VALUE=DURATION:PT1H
X-Robots-Tag:noindex
X-PUBLISHED-TTL:PT1H
BEGIN:VTIMEZONE
TZID:America/New_York
BEGIN:DAYLIGHT
TZOFFSETFROM:-0500
TZOFFSETTO:-0400
TZNAME:EDT
DTSTART:20220313T070000
END:DAYLIGHT
BEGIN:STANDARD
TZOFFSETFROM:-0400
TZOFFSETTO:-0500
TZNAME:EST
DTSTART:20221106T060000
END:STANDARD
BEGIN:DAYLIGHT
TZOFFSETFROM:-0500
TZOFFSETTO:-0400
TZNAME:EDT
DTSTART:20230312T070000
END:DAYLIGHT
BEGIN:STANDARD
TZOFFSETFROM:-0400
TZOFFSETTO:-0500
TZNAME:EST
DTSTART:20231105T060000
END:STANDARD
BEGIN:DAYLIGHT
TZOFFSETFROM:-0500
TZOFFSETTO:-0400
TZNAME:EDT
DTSTART:20240310T070000
END:DAYLIGHT
BEGIN:STANDARD
TZOFFSETFROM:-0400
TZOFFSETTO:-0500
TZNAME:EST
DTSTART:20241103T060000
END:STANDARD
END:VTIMEZONE
BEGIN:VEVENT
DTSTART;TZID=America/New_York:20230210T123000
DTEND;TZID=America/New_York:20230210T160000
DTSTAMP:20260422T044903
CREATED:20221213T150700Z
LAST-MODIFIED:20221213T160541Z
UID:1628-1676032200-1676044800@www.apalachicolareserve.com
SUMMARY:Apalachicola River and Floodplain
DESCRIPTION:The Apalachicola River has been called “the Lifeblood of the Bay.” Come learn about the ecology\, culture\, and history of the Apalachicola River and floodplain\, and the impact interstate relationships play in the control of the river. After the in-class portion\, we will embark on a journey up the river aboard the ANERR research vessel Henry Lee to get an up-close look at some of the floodplain ecosystems and distributaries of the river. This class is free; however\, reservations are required. For more information\, please contact Anita Grove at (850) 670-7708 Anita.Grove@FloridaDEP.gov \nhttps://apalachicolariverfloodplain2023.eventbrite.com \nThis class is intended for adult education purposes\, so we kindly ask that people registering be 16 years or
URL:https://www.apalachicolareserve.com/event/apalachicola-river-and-floodplain-4/
LOCATION:FL
ATTACH;FMTTYPE=image/png:https://www.apalachicolareserve.com/wp-content/uploads/2022/12/Capture-e1673284893138.png
END:VEVENT
BEGIN:VEVENT
DTSTART;TZID=America/New_York:20230214T100000
DTEND;TZID=America/New_York:20230214T113000
DTSTAMP:20260422T044903
CREATED:20221213T145708Z
LAST-MODIFIED:20221213T161627Z
UID:1620-1676368800-1676374200@www.apalachicolareserve.com
SUMMARY:Oyster Ecology
DESCRIPTION:Learn about the role oysters play in the health of Apalachicola Bay. Discover what makes the bay so ideal for growing oysters\, what gives our oysters their distinct flavor\, and how oyster bars benefit the ecosystem. We will also look at what possibly made the oysters collapse and what is being done to restore them to Apalachicola Bay. After spending some time in the classroom\, participants will get the chance look at its these creatures under a microscope. This class is full of opportunities to learn more about the animals that live in our bay and along the tidal flats. Registration is free\, but registering is required\nhttps://oysterecology2023.eventbrite.com
URL:https://www.apalachicolareserve.com/event/oyster-ecology-8/
LOCATION:FL
ATTACH;FMTTYPE=image/png:https://www.apalachicolareserve.com/wp-content/uploads/2022/12/oyster-ecology-pic.png
END:VEVENT
BEGIN:VEVENT
DTSTART;TZID=America/New_York:20230215T140000
DTEND;TZID=America/New_York:20230215T150000
DTSTAMP:20260422T044903
CREATED:20230128T145911Z
LAST-MODIFIED:20230128T170545Z
UID:1727-1676469600-1676473200@www.apalachicolareserve.com
SUMMARY:Reserve Wednesday: Botanical Legacy of Chapman
DESCRIPTION:Join us at the Apalachicola NERR Nature Center for February’s ‘Reserve Wednesday’ talk at 2PM on February 15. Dr. Rebecca Dolan\, retired Director of the Friesner Herbarium at Butler University and Franklin County resident\, will be discussing the botanical legacy of Alvan Wentworth Chapman. Chapman authored “Flora of the Southern United States” in 1860\, the first publication to describe the plants of this region of the world.
URL:https://www.apalachicolareserve.com/event/reserve-wednesday-botanical-legacy-of-chapman/
LOCATION:Apalachicola National Estuarine Research Reserve\, 108 Island Dr.\, Eastpoint\, FL\, 32328\, United States
END:VEVENT
BEGIN:VEVENT
DTSTART;TZID=America/New_York:20230216T080000
DTEND;TZID=America/New_York:20230216T170000
DTSTAMP:20260422T044903
CREATED:20230303T152149Z
LAST-MODIFIED:20230303T152149Z
UID:1761-1676534400-1676566800@www.apalachicolareserve.com
SUMMARY:SciCafe: Beth Appleton Diatom Art
DESCRIPTION:Life in a Drop of Water\nArtist Beth Appleton\, Reserve biologist Megan Lamb and Reserve Educator Melanie Humble discuss the history of human understanding of microscope life and how artist and naturalist draw inspiration from these organisms. This will be an interactive session.  \nTo register go to https://attendee.gotowebinar.com/register/2991370245327167069 After registering\, you will receive a confirmation email containing information about joining the webinar.
URL:https://www.apalachicolareserve.com/event/scicafe-beth-appleton-diatom-art/
LOCATION:FL
END:VEVENT
BEGIN:VEVENT
DTSTART;TZID=America/New_York:20230221T130000
DTEND;TZID=America/New_York:20230221T143000
DTSTAMP:20260422T044903
CREATED:20221213T162238Z
LAST-MODIFIED:20221213T162238Z
UID:1669-1676984400-1676989800@www.apalachicolareserve.com
SUMMARY:Bay Friendly Landscaping
DESCRIPTION:Yard design and maintenance can have a big effect on adjacent water bodies. Participants in this workshop will learn about resources to help them transform their inefficient yard into a luscious bay conscious landscape. The class will also feature information on innovative Green Infrastructure techniques such as rain gardens\, green roofs\, and bio-swales. Come find out how to be good to the bay and reduce the time you spend on maintenance! Please register for the class in advance at https://bayfriendly2023.eventbrite.com\nFor information call or email Anita Grove at (850) 670-7708 Anita.Grove@FloridaDEP.gov
URL:https://www.apalachicolareserve.com/event/bay-friendly-landscaping-11/
LOCATION:FL
ATTACH;FMTTYPE=image/png:https://www.apalachicolareserve.com/wp-content/uploads/2022/12/Bayfriendly-pic.png
END:VEVENT
BEGIN:VEVENT
DTSTART;TZID=America/New_York:20230223T090000
DTEND;TZID=America/New_York:20230224T130000
DTSTAMP:20260422T044903
CREATED:20230109T171039Z
LAST-MODIFIED:20230206T210447Z
UID:1693-1677142800-1677243600@www.apalachicolareserve.com
SUMMARY:Apalachicola NERR Symposium 2023
DESCRIPTION:Join us for the third annual Apalachicola NERR Symposium\, highlighting research conducted within the reserve and adjacent areas. Register here if you will be attending in person at the Reserve. Our two-day symposium will feature sessions on productivity in the river and bay\, fisheries management\, restoration science\, and climate change impacts. \nFebruary 23\n•	9AM to 4PM – Presentations\n•	4PM to 6PM – Poster Exhibition\n\nFebruary 24\n•	9AM to 1:00PM  – Presentations \nThe full agenda can be found here: https://docs.google.com/document/d/1f_A7lLGPYFy9rUfxUas6u4bj35zxy8FR/ \nTo register for in-person\, go to https://AnerrSymposium23.eventbrite.com \nTo register for virtual\, go to https://attendee.gotowebinar.com/register/3079767681687666272
URL:https://www.apalachicolareserve.com/event/apalachicola-nerr-symposium-2023/
LOCATION:Apalachicola National Estuarine Research Reserve\, 108 Island Dr.\, Eastpoint\, FL\, 32328\, United States
ATTACH;FMTTYPE=image/png:https://www.apalachicolareserve.com/wp-content/uploads/2023/01/symposium-picture.png
END:VEVENT
END:VCALENDAR