BEGIN:VCALENDAR
VERSION:2.0
PRODID:-//Apalachicola National Estuarine Research Reserve - ECPv6.15.20//NONSGML v1.0//EN
CALSCALE:GREGORIAN
METHOD:PUBLISH
X-WR-CALNAME:Apalachicola National Estuarine Research Reserve
X-ORIGINAL-URL:https://www.apalachicolareserve.com
X-WR-CALDESC:Events for Apalachicola National Estuarine Research Reserve
REFRESH-INTERVAL;VALUE=DURATION:PT1H
X-Robots-Tag:noindex
X-PUBLISHED-TTL:PT1H
BEGIN:VTIMEZONE
TZID:America/New_York
BEGIN:DAYLIGHT
TZOFFSETFROM:-0500
TZOFFSETTO:-0400
TZNAME:EDT
DTSTART:20210314T070000
END:DAYLIGHT
BEGIN:STANDARD
TZOFFSETFROM:-0400
TZOFFSETTO:-0500
TZNAME:EST
DTSTART:20211107T060000
END:STANDARD
BEGIN:DAYLIGHT
TZOFFSETFROM:-0500
TZOFFSETTO:-0400
TZNAME:EDT
DTSTART:20220313T070000
END:DAYLIGHT
BEGIN:STANDARD
TZOFFSETFROM:-0400
TZOFFSETTO:-0500
TZNAME:EST
DTSTART:20221106T060000
END:STANDARD
BEGIN:DAYLIGHT
TZOFFSETFROM:-0500
TZOFFSETTO:-0400
TZNAME:EDT
DTSTART:20230312T070000
END:DAYLIGHT
BEGIN:STANDARD
TZOFFSETFROM:-0400
TZOFFSETTO:-0500
TZNAME:EST
DTSTART:20231105T060000
END:STANDARD
END:VTIMEZONE
BEGIN:VEVENT
DTSTART;TZID=America/New_York:20220921T140000
DTEND;TZID=America/New_York:20220921T150000
DTSTAMP:20260422T115815
CREATED:20220818T140845Z
LAST-MODIFIED:20220818T140845Z
UID:1511-1663768800-1663772400@www.apalachicolareserve.com
SUMMARY:Reserve Wednesday: Diamondback Terrapins
DESCRIPTION:Diamondback terrapins are a brackish water turtle species with an extensive range\, inhabiting much of the United States Gulf and Atlantic coasts. U.S. Geological Survey and partners are currently studying diamondback terrapins throughout the Florida panhandle to learn more about the species in an previously understudied portion of their range. Join USGS biologist Dan Catizone at the Apalachicola NERR at 2PM on Wednesday\, September 21 for a presentation about what they’ve learned so far.
URL:https://www.apalachicolareserve.com/event/reserve-wednesday-diamondback-terrapins/
LOCATION:Apalachicola National Estuarine Research Reserve\, 108 Island Dr.\, Eastpoint\, FL\, 32328\, United States
END:VEVENT
BEGIN:VEVENT
DTSTART;TZID=America/New_York:20220922T150000
DTEND;TZID=America/New_York:20220922T160000
DTSTAMP:20260422T115815
CREATED:20220829T132537Z
LAST-MODIFIED:20220829T181255Z
UID:1555-1663858800-1663862400@www.apalachicolareserve.com
SUMMARY:SciCafe: What Fossils Can Tell Us About Oysters in Apalachicola Bay?
DESCRIPTION:Oyster populations in Apalachicola Bay have changed a lot in recent decades\, but how do we know what the oyster reefs looked like prior to modern real-time monitoring? Also\, how can we gather additional historical information about the intertidal reefs? Join us as we explore what buried oyster shells can tell us about Apalachicola Bay oyster reefs with Dr. Stephen Durham\, a paleontologist and environmental specialist with the Florida Dept of Environmental Protection. To register go to https://attendee.gotowebinar.com/register/3220076357901137165. You will be sent a link to join once you register.
URL:https://www.apalachicolareserve.com/event/what-fossils-can-tell-us-about-oysters-in-apalachicola-bay/
LOCATION:FL
CATEGORIES:Webinar
ATTACH;FMTTYPE=image/jpeg:https://www.apalachicolareserve.com/wp-content/uploads/2022/08/what-fossils-can-tell-us-Scicafe.jpg
END:VEVENT
END:VCALENDAR