BEGIN:VCALENDAR
VERSION:2.0
PRODID:-//Apalachicola National Estuarine Research Reserve - ECPv6.15.20//NONSGML v1.0//EN
CALSCALE:GREGORIAN
METHOD:PUBLISH
X-ORIGINAL-URL:https://www.apalachicolareserve.com
X-WR-CALDESC:Events for Apalachicola National Estuarine Research Reserve
REFRESH-INTERVAL;VALUE=DURATION:PT1H
X-Robots-Tag:noindex
X-PUBLISHED-TTL:PT1H
BEGIN:VTIMEZONE
TZID:America/New_York
BEGIN:DAYLIGHT
TZOFFSETFROM:-0500
TZOFFSETTO:-0400
TZNAME:EDT
DTSTART:20210314T070000
END:DAYLIGHT
BEGIN:STANDARD
TZOFFSETFROM:-0400
TZOFFSETTO:-0500
TZNAME:EST
DTSTART:20211107T060000
END:STANDARD
BEGIN:DAYLIGHT
TZOFFSETFROM:-0500
TZOFFSETTO:-0400
TZNAME:EDT
DTSTART:20220313T070000
END:DAYLIGHT
BEGIN:STANDARD
TZOFFSETFROM:-0400
TZOFFSETTO:-0500
TZNAME:EST
DTSTART:20221106T060000
END:STANDARD
BEGIN:DAYLIGHT
TZOFFSETFROM:-0500
TZOFFSETTO:-0400
TZNAME:EDT
DTSTART:20230312T070000
END:DAYLIGHT
BEGIN:STANDARD
TZOFFSETFROM:-0400
TZOFFSETTO:-0500
TZNAME:EST
DTSTART:20231105T060000
END:STANDARD
END:VTIMEZONE
BEGIN:VEVENT
DTSTART;TZID=America/New_York:20220705T140000
DTEND;TZID=America/New_York:20220705T170000
DTSTAMP:20260420T223608
CREATED:20220523T161610Z
LAST-MODIFIED:20220523T161610Z
UID:1458-1657029600-1657040400@www.apalachicolareserve.com
SUMMARY:Turtle Talk Tuesdays at Apalachicola NERR
DESCRIPTION:Visit the Reserve this summer to learn all about our nesting sea turtles. After a presentation on sea turtle biology\, our conservation and monitoring program\, and ways local residents and visitors can make the beaches welcoming to nesting turtles\, Reserve staff and members of the St. George Island Volunteer Turtle Patrol will be on hand to answer all your turtle questions! This air-conditioned event is a wonderful chance to learn more about sea turtles and is great for anyone visiting the area alone or with family. \nThis event is expected to reach capacity\, we recommend arriving early.
URL:https://www.apalachicolareserve.com/event/turtle-talk-tuesdays-at-apalachicola-nerr-5/
LOCATION:Apalachicola National Estuarine Research Reserve\, 108 Island Dr.\, Eastpoint\, FL\, 32328\, United States
END:VEVENT
BEGIN:VEVENT
DTSTART;TZID=America/New_York:20220712T140000
DTEND;TZID=America/New_York:20220712T150000
DTSTAMP:20260420T223608
CREATED:20220523T161722Z
LAST-MODIFIED:20220523T161722Z
UID:1460-1657634400-1657638000@www.apalachicolareserve.com
SUMMARY:Turtle Talk Tuesdays at Apalachicola NERR
DESCRIPTION:Visit the Reserve this summer to learn all about our nesting sea turtles. After a presentation on sea turtle biology\, our conservation and monitoring program\, and ways local residents and visitors can make the beaches welcoming to nesting turtles\, Reserve staff and members of the St. George Island Volunteer Turtle Patrol will be on hand to answer all your turtle questions! This air-conditioned event is a wonderful chance to learn more about sea turtles and is great for anyone visiting the area alone or with family. \nThis event is expected to reach capacity\, we recommend arriving early.
URL:https://www.apalachicolareserve.com/event/turtle-talk-tuesdays-at-apalachicola-nerr-6/
LOCATION:Apalachicola National Estuarine Research Reserve\, 108 Island Dr.\, Eastpoint\, FL\, 32328\, United States
END:VEVENT
BEGIN:VEVENT
DTSTART;TZID=America/New_York:20220719T140000
DTEND;TZID=America/New_York:20220719T150000
DTSTAMP:20260420T223608
CREATED:20220523T161804Z
LAST-MODIFIED:20220523T161804Z
UID:1462-1658239200-1658242800@www.apalachicolareserve.com
SUMMARY:Turtle Talk Tuesdays at Apalachicola NERR
DESCRIPTION:Visit the Reserve this summer to learn all about our nesting sea turtles. After a presentation on sea turtle biology\, our conservation and monitoring program\, and ways local residents and visitors can make the beaches welcoming to nesting turtles\, Reserve staff and members of the St. George Island Volunteer Turtle Patrol will be on hand to answer all your turtle questions! This air-conditioned event is a wonderful chance to learn more about sea turtles and is great for anyone visiting the area alone or with family. \nThis event is expected to reach capacity\, we recommend arriving early.
URL:https://www.apalachicolareserve.com/event/turtle-talk-tuesdays-at-apalachicola-nerr-7/
LOCATION:Apalachicola National Estuarine Research Reserve\, 108 Island Dr.\, Eastpoint\, FL\, 32328\, United States
END:VEVENT
BEGIN:VEVENT
DTSTART;TZID=America/New_York:20220726T140000
DTEND;TZID=America/New_York:20220726T150000
DTSTAMP:20260420T223608
CREATED:20220523T161844Z
LAST-MODIFIED:20220523T161844Z
UID:1464-1658844000-1658847600@www.apalachicolareserve.com
SUMMARY:Turtle Talk Tuesdays at Apalachicola NERR
DESCRIPTION:Visit the Reserve this summer to learn all about our nesting sea turtles. After a presentation on sea turtle biology\, our conservation and monitoring program\, and ways local residents and visitors can make the beaches welcoming to nesting turtles\, Reserve staff and members of the St. George Island Volunteer Turtle Patrol will be on hand to answer all your turtle questions! This air-conditioned event is a wonderful chance to learn more about sea turtles and is great for anyone visiting the area alone or with family. \nThis event is expected to reach capacity\, we recommend arriving early.
URL:https://www.apalachicolareserve.com/event/turtle-talk-tuesdays-at-apalachicola-nerr-8/
LOCATION:Apalachicola National Estuarine Research Reserve\, 108 Island Dr.\, Eastpoint\, FL\, 32328\, United States
END:VEVENT
BEGIN:VEVENT
DTSTART;TZID=America/New_York:20220728T150000
DTEND;TZID=America/New_York:20220728T160000
DTSTAMP:20260420T223608
CREATED:20220711T134555Z
LAST-MODIFIED:20220711T165448Z
UID:1484-1659020400-1659024000@www.apalachicolareserve.com
SUMMARY:SciCafe: Apalachicola Bay Systems Initiative Update With Sandra Brooke
DESCRIPTION:Apalachicola Bay’s oyster industry thrived for over a century. In 2012 the fishery collapsed. Several restoration efforts have been implemented\, but populations have not recovered. In 2019\, Florida State University was awarded funding for the Apalachicola Bay System Initiative (ABSI) by Triumph Gulf Coast with the goal of gaining insight into the causes of the oyster population demise\, understand why the system is not recovering\, and identify potential pathways to a healthy Bay ecosystem and oyster fishery. Project lead Dr. Sandra Brooke will give an update on the progress of the Initiative\, describing what has been done so far\, what will occur in the upcoming year\, who is involved\, and how to stay up to date on the project. To register for the virtual workshop go to https://attendee.gotowebinar.com/register/7110525628484578317.
URL:https://www.apalachicolareserve.com/event/scicafe-apalachicola-bay-systems-initiative-update-with-sandra-brooke/
LOCATION:FL
ATTACH;FMTTYPE=image/jpeg:https://www.apalachicolareserve.com/wp-content/uploads/2022/07/F66AC916-8883-4693-BF5F-C2A36B7D1AF1.jpeg
END:VEVENT
END:VCALENDAR