BEGIN:VCALENDAR
VERSION:2.0
PRODID:-//Apalachicola National Estuarine Research Reserve - ECPv6.15.20//NONSGML v1.0//EN
CALSCALE:GREGORIAN
METHOD:PUBLISH
X-WR-CALNAME:Apalachicola National Estuarine Research Reserve
X-ORIGINAL-URL:https://www.apalachicolareserve.com
X-WR-CALDESC:Events for Apalachicola National Estuarine Research Reserve
REFRESH-INTERVAL;VALUE=DURATION:PT1H
X-Robots-Tag:noindex
X-PUBLISHED-TTL:PT1H
BEGIN:VTIMEZONE
TZID:America/New_York
BEGIN:DAYLIGHT
TZOFFSETFROM:-0500
TZOFFSETTO:-0400
TZNAME:EDT
DTSTART:20210314T070000
END:DAYLIGHT
BEGIN:STANDARD
TZOFFSETFROM:-0400
TZOFFSETTO:-0500
TZNAME:EST
DTSTART:20211107T060000
END:STANDARD
BEGIN:DAYLIGHT
TZOFFSETFROM:-0500
TZOFFSETTO:-0400
TZNAME:EDT
DTSTART:20220313T070000
END:DAYLIGHT
BEGIN:STANDARD
TZOFFSETFROM:-0400
TZOFFSETTO:-0500
TZNAME:EST
DTSTART:20221106T060000
END:STANDARD
BEGIN:DAYLIGHT
TZOFFSETFROM:-0500
TZOFFSETTO:-0400
TZNAME:EDT
DTSTART:20230312T070000
END:DAYLIGHT
BEGIN:STANDARD
TZOFFSETFROM:-0400
TZOFFSETTO:-0500
TZNAME:EST
DTSTART:20231105T060000
END:STANDARD
END:VTIMEZONE
BEGIN:VEVENT
DTSTART;TZID=America/New_York:20220607T140000
DTEND;TZID=America/New_York:20220607T150000
DTSTAMP:20260420T222615
CREATED:20220523T161050Z
LAST-MODIFIED:20220523T161050Z
UID:1450-1654610400-1654614000@www.apalachicolareserve.com
SUMMARY:Turtle Talk Tuesdays at Apalachicola NERR
DESCRIPTION:Visit the Reserve this summer to learn all about our nesting sea turtles. After a presentation on sea turtle biology\, our conservation and monitoring program\, and ways local residents and visitors can make the beaches welcoming to nesting turtles\, Reserve staff and members of the St. George Island Volunteer Turtle Patrol will be on hand to answer all your turtle questions! This air-conditioned event is a wonderful chance to learn more about sea turtles and is great for anyone visiting the area alone or with family. \nThis event is expected to reach capacity\, we recommend arriving early.
URL:https://www.apalachicolareserve.com/event/turtle-talk-tuesdays-at-apalachicola-nerr/
LOCATION:Apalachicola National Estuarine Research Reserve\, 108 Island Dr.\, Eastpoint\, FL\, 32328\, United States
END:VEVENT
BEGIN:VEVENT
DTSTART;TZID=America/New_York:20220614T140000
DTEND;TZID=America/New_York:20220614T150000
DTSTAMP:20260420T222615
CREATED:20220523T161244Z
LAST-MODIFIED:20220523T161319Z
UID:1452-1655215200-1655218800@www.apalachicolareserve.com
SUMMARY:Turtle Talk Tuesdays at Apalachicola NERR
DESCRIPTION:Visit the Reserve this summer to learn all about our nesting sea turtles. After a presentation on sea turtle biology\, our conservation and monitoring program\, and ways local residents and visitors can make the beaches welcoming to nesting turtles\, Reserve staff and members of the St. George Island Volunteer Turtle Patrol will be on hand to answer all your turtle questions! This air-conditioned event is a wonderful chance to learn more about sea turtles and is great for anyone visiting the area alone or with family. \nThis event is expected to reach capacity\, we recommend arriving early.
URL:https://www.apalachicolareserve.com/event/turtle-talk-tuesdays-at-apalachicola-nerr-2/
LOCATION:Apalachicola National Estuarine Research Reserve\, 108 Island Dr.\, Eastpoint\, FL\, 32328\, United States
END:VEVENT
BEGIN:VEVENT
DTSTART;TZID=America/New_York:20220615T140000
DTEND;TZID=America/New_York:20220615T150000
DTSTAMP:20260420T222615
CREATED:20220607T133442Z
LAST-MODIFIED:20220607T133442Z
UID:1476-1655301600-1655305200@www.apalachicolareserve.com
SUMMARY:Foraging for Weeds
DESCRIPTION:Botanist Scott Davis will be at the Apalachicola NERR Nature Center talking about edible plants we might find growing in our own back yards.
URL:https://www.apalachicolareserve.com/event/foraging-for-weeds/
LOCATION:Apalachicola National Estuarine Research Reserve\, 108 Island Dr.\, Eastpoint\, FL\, 32328\, United States
END:VEVENT
BEGIN:VEVENT
DTSTART;TZID=America/New_York:20220621T140000
DTEND;TZID=America/New_York:20220621T150000
DTSTAMP:20260420T222615
CREATED:20220523T161411Z
LAST-MODIFIED:20220523T161411Z
UID:1454-1655820000-1655823600@www.apalachicolareserve.com
SUMMARY:Turtle Talk Tuesdays at Apalachicola NERR
DESCRIPTION:Visit the Reserve this summer to learn all about our nesting sea turtles. After a presentation on sea turtle biology\, our conservation and monitoring program\, and ways local residents and visitors can make the beaches welcoming to nesting turtles\, Reserve staff and members of the St. George Island Volunteer Turtle Patrol will be on hand to answer all your turtle questions! This air-conditioned event is a wonderful chance to learn more about sea turtles and is great for anyone visiting the area alone or with family. \nThis event is expected to reach capacity\, we recommend arriving early.
URL:https://www.apalachicolareserve.com/event/turtle-talk-tuesdays-at-apalachicola-nerr-3/
LOCATION:Apalachicola National Estuarine Research Reserve\, 108 Island Dr.\, Eastpoint\, FL\, 32328\, United States
END:VEVENT
BEGIN:VEVENT
DTSTART;TZID=America/New_York:20220628T140000
DTEND;TZID=America/New_York:20220628T150000
DTSTAMP:20260420T222615
CREATED:20220523T161534Z
LAST-MODIFIED:20220523T161534Z
UID:1456-1656424800-1656428400@www.apalachicolareserve.com
SUMMARY:Turtle Talk Tuesdays at Apalachicola NERR
DESCRIPTION:Visit the Reserve this summer to learn all about our nesting sea turtles. After a presentation on sea turtle biology\, our conservation and monitoring program\, and ways local residents and visitors can make the beaches welcoming to nesting turtles\, Reserve staff and members of the St. George Island Volunteer Turtle Patrol will be on hand to answer all your turtle questions! This air-conditioned event is a wonderful chance to learn more about sea turtles and is great for anyone visiting the area alone or with family. \nThis event is expected to reach capacity\, we recommend arriving early.
URL:https://www.apalachicolareserve.com/event/turtle-talk-tuesdays-at-apalachicola-nerr-4/
LOCATION:Apalachicola National Estuarine Research Reserve\, 108 Island Dr.\, Eastpoint\, FL\, 32328\, United States
END:VEVENT
END:VCALENDAR