BEGIN:VCALENDAR
VERSION:2.0
PRODID:-//Apalachicola National Estuarine Research Reserve - ECPv6.15.20//NONSGML v1.0//EN
CALSCALE:GREGORIAN
METHOD:PUBLISH
X-ORIGINAL-URL:https://www.apalachicolareserve.com
X-WR-CALDESC:Events for Apalachicola National Estuarine Research Reserve
REFRESH-INTERVAL;VALUE=DURATION:PT1H
X-Robots-Tag:noindex
X-PUBLISHED-TTL:PT1H
BEGIN:VTIMEZONE
TZID:America/New_York
BEGIN:DAYLIGHT
TZOFFSETFROM:-0500
TZOFFSETTO:-0400
TZNAME:EDT
DTSTART:20210314T070000
END:DAYLIGHT
BEGIN:STANDARD
TZOFFSETFROM:-0400
TZOFFSETTO:-0500
TZNAME:EST
DTSTART:20211107T060000
END:STANDARD
BEGIN:DAYLIGHT
TZOFFSETFROM:-0500
TZOFFSETTO:-0400
TZNAME:EDT
DTSTART:20220313T070000
END:DAYLIGHT
BEGIN:STANDARD
TZOFFSETFROM:-0400
TZOFFSETTO:-0500
TZNAME:EST
DTSTART:20221106T060000
END:STANDARD
BEGIN:DAYLIGHT
TZOFFSETFROM:-0500
TZOFFSETTO:-0400
TZNAME:EDT
DTSTART:20230312T070000
END:DAYLIGHT
BEGIN:STANDARD
TZOFFSETFROM:-0400
TZOFFSETTO:-0500
TZNAME:EST
DTSTART:20231105T060000
END:STANDARD
END:VTIMEZONE
BEGIN:VEVENT
DTSTART;TZID=America/New_York:20220506T133000
DTEND;TZID=America/New_York:20220506T180000
DTSTAMP:20260422T172144
CREATED:20220311T151046Z
LAST-MODIFIED:20220311T151052Z
UID:1389-1651843800-1651860000@www.apalachicolareserve.com
SUMMARY:Estuaries Day 2022
DESCRIPTION:Estuaries Day 2022 at the Apalachicola NERR Nature Center\nFree Estuaries Day T-shirt for first 600 guests! \nCome enjoy the Living Shoreline Exploration\, Touch Tanks\, Prescribed Fire Activities\, Turtle Hurdle Board game\, Salt Marsh Bingo\, Button Making\, Waterfront Race\, and the Cast Net Game! \nWhen: Friday\, May 6\, 1:30 – 5:30 PM ET\nWhere: 108 Island Drive\, Eastpoint\, FL\n850-670-7700 \nFree snacks are available\, but Mellow Mullet will be on site selling shaved ice!\nEnter on Island Drive. Event is family friendly\, but children must remain supervised.
URL:https://www.apalachicolareserve.com/event/estuaries-day-2022/
LOCATION:Apalachicola National Estuarine Research Reserve\, 108 Island Dr.\, Eastpoint\, FL\, 32328\, United States
END:VEVENT
BEGIN:VEVENT
DTSTART;TZID=America/New_York:20220513T123000
DTEND;TZID=America/New_York:20220513T160000
DTSTAMP:20260422T172144
CREATED:20220208T195744Z
LAST-MODIFIED:20220208T201843Z
UID:1330-1652445000-1652457600@www.apalachicolareserve.com
SUMMARY:Apalachicola River & Floodplain
DESCRIPTION:The Apalachicola River has been called “the Lifeblood of the Bay.” Come learn about the ecology\, culture\, and history of the Apalachicola River and floodplain\, and the impact interstate relationships play in the control of the river. After the in-class portion\, we will embark on a journey up the river aboard the ANERR research vessel Henry Lee to get an up-close look at some of the floodplain ecosystems and distributaries of the river. This class is free\, however reservations are required. Go to https://apalachicolariverandfloodplain2022.eventbrite.com to register. For more information please contact Anita Grove at (850) 670-7708 Anita.Grove@FloridaDEP.gov
URL:https://www.apalachicolareserve.com/event/apalachicola-river-floodplain/
LOCATION:Apalachicola National Estuarine Research Reserve\, 108 Island Dr.\, Eastpoint\, FL\, 32328\, United States
CATEGORIES:Stewardship Serise
END:VEVENT
BEGIN:VEVENT
DTSTART;TZID=America/New_York:20220518T123000
DTEND;TZID=America/New_York:20220518T160000
DTSTAMP:20260422T172144
CREATED:20220208T205644Z
LAST-MODIFIED:20220208T205644Z
UID:1357-1652877000-1652889600@www.apalachicolareserve.com
SUMMARY:Apalachicola Estuary Exploration
DESCRIPTION:Join us to explore the estuary we depend on\, Apalachicola Bay and its connected ecosystem. Learn about the habits and creatures that make up our estuary and how the river and bay are intricately linked. We will see these habitats up close aboard the Reserve’s research vessel the Henry Lee. For more info and to register go to https://apalachicolabayestuaryexploration.eventbrite.com
URL:https://www.apalachicolareserve.com/event/apalachicola-estuary-exploration/
LOCATION:FL
CATEGORIES:Stewardship Serise
END:VEVENT
BEGIN:VEVENT
DTSTART;TZID=America/New_York:20220518T140000
DTEND;TZID=America/New_York:20220518T150000
DTSTAMP:20260422T172144
CREATED:20220503T151852Z
LAST-MODIFIED:20220503T151852Z
UID:1420-1652882400-1652886000@www.apalachicolareserve.com
SUMMARY:Reserve Wednesday: Taking the Temperature of Sea Turtle Nests
DESCRIPTION:A sea turtle’s eggs depend heavily on the nest’s temperature to develop either into male or female hatchlings. If a nest’s beach is warmer\, it will hatch more females than males\, so how will climate change affect sea turtle populations? What will that mean for sea turtle conservation efforts? Megan Lamb\, a biologist at the Apalachicola National Estuarine Research Reserve\, has been conducting a sea turtle nest monitoring program since 2016 as part of the global effort to gain some answers to these questions. On May 18 at 2PM\, she will present the results from the past few years and talk about some of the other turtle research going on across the world.
URL:https://www.apalachicolareserve.com/event/reserve-wednesday-taking-the-temperature-of-sea-turtle-nests-2/
LOCATION:Apalachicola National Estuarine Research Reserve\, 108 Island Dr.\, Eastpoint\, FL\, 32328\, United States
END:VEVENT
BEGIN:VEVENT
DTSTART;TZID=America/New_York:20220526T150000
DTEND;TZID=America/New_York:20220526T160000
DTSTAMP:20260422T172144
CREATED:20220407T190835Z
LAST-MODIFIED:20220407T190835Z
UID:1413-1653577200-1653580800@www.apalachicolareserve.com
SUMMARY:Sci Cafe: Oyster Corps Aquaculture Demonstration Project
DESCRIPTION:Students with the Conservation Corps of the Forgotten Coast embarked on a year-long journey last fall to learn about aquaculture first-hand. The students have planted and are tending an oyster aquaculture lease in Apalachicola Bay while documenting the project and sharing their experiences with the community. This project was made possible by a collaboration between the Apalachicola National Estuarine Research Reserve\, Rattlesnake Cover Oyster Company\, the Florida Department of Agriculture and Consumer Services (FDACS) Division of Aquaculture\, and the FSU Coastal and Marine Laboratory. OysterCorps students will also talk about their oyster shell recycling project they are managing. To register go to https://attendee.gotowebinar.com/register/1892608478823511822
URL:https://www.apalachicolareserve.com/event/sci-cafe-oyster-corps-aquaculture-demonstration-project/
LOCATION:GoToWebinar\, online
CATEGORIES:Webinar
ATTACH;FMTTYPE=image/png:https://www.apalachicolareserve.com/wp-content/uploads/2022/04/sci-cafe-oyster-pic.png
END:VEVENT
END:VCALENDAR