BEGIN:VCALENDAR
VERSION:2.0
PRODID:-//Apalachicola National Estuarine Research Reserve - ECPv6.15.20//NONSGML v1.0//EN
CALSCALE:GREGORIAN
METHOD:PUBLISH
X-WR-CALNAME:Apalachicola National Estuarine Research Reserve
X-ORIGINAL-URL:https://www.apalachicolareserve.com
X-WR-CALDESC:Events for Apalachicola National Estuarine Research Reserve
REFRESH-INTERVAL;VALUE=DURATION:PT1H
X-Robots-Tag:noindex
X-PUBLISHED-TTL:PT1H
BEGIN:VTIMEZONE
TZID:America/New_York
BEGIN:DAYLIGHT
TZOFFSETFROM:-0500
TZOFFSETTO:-0400
TZNAME:EDT
DTSTART:20210314T070000
END:DAYLIGHT
BEGIN:STANDARD
TZOFFSETFROM:-0400
TZOFFSETTO:-0500
TZNAME:EST
DTSTART:20211107T060000
END:STANDARD
BEGIN:DAYLIGHT
TZOFFSETFROM:-0500
TZOFFSETTO:-0400
TZNAME:EDT
DTSTART:20220313T070000
END:DAYLIGHT
BEGIN:STANDARD
TZOFFSETFROM:-0400
TZOFFSETTO:-0500
TZNAME:EST
DTSTART:20221106T060000
END:STANDARD
BEGIN:DAYLIGHT
TZOFFSETFROM:-0500
TZOFFSETTO:-0400
TZNAME:EDT
DTSTART:20230312T070000
END:DAYLIGHT
BEGIN:STANDARD
TZOFFSETFROM:-0400
TZOFFSETTO:-0500
TZNAME:EST
DTSTART:20231105T060000
END:STANDARD
END:VTIMEZONE
BEGIN:VEVENT
DTSTART;TZID=America/New_York:20220127T150000
DTEND;TZID=America/New_York:20220127T160000
DTSTAMP:20260420T222627
CREATED:20220124T160731Z
LAST-MODIFIED:20220124T160906Z
UID:1267-1643295600-1643299200@www.apalachicolareserve.com
SUMMARY:Sci Cafe: Water Quality Sampling in Apalachicola Bay
DESCRIPTION:Thursday\, January 27\, 2021 3:00-4:00pm\nJill Fleiger with the Florida Department of Agriculture and Consumer Services Division of Aquaculture will talk about water quality sampling in Apalachicola Bay. Jill is responsible for the Shellfish Harvesting Area Classification Program and takes the samples for the Apalachicola Bay. Please register for Sci-Café Virtual Series at: https://attendee.gotowebinar.com/register/5484660188326644749 After registering\, you will receive a confirmation email containing information about joining the webinar.
URL:https://www.apalachicolareserve.com/event/sci-cafe-water-quality-sampling-in-apalachicola-bay/
LOCATION:Apalachicola National Estuarine Research Reserve\, 108 Island Dr.\, Eastpoint\, FL\, 32328\, United States
END:VEVENT
END:VCALENDAR