BEGIN:VCALENDAR
VERSION:2.0
PRODID:-//Apalachicola National Estuarine Research Reserve - ECPv6.15.20//NONSGML v1.0//EN
CALSCALE:GREGORIAN
METHOD:PUBLISH
X-WR-CALNAME:Apalachicola National Estuarine Research Reserve
X-ORIGINAL-URL:https://www.apalachicolareserve.com
X-WR-CALDESC:Events for Apalachicola National Estuarine Research Reserve
REFRESH-INTERVAL;VALUE=DURATION:PT1H
X-Robots-Tag:noindex
X-PUBLISHED-TTL:PT1H
BEGIN:VTIMEZONE
TZID:America/New_York
BEGIN:DAYLIGHT
TZOFFSETFROM:-0500
TZOFFSETTO:-0400
TZNAME:EDT
DTSTART:20200308T070000
END:DAYLIGHT
BEGIN:STANDARD
TZOFFSETFROM:-0400
TZOFFSETTO:-0500
TZNAME:EST
DTSTART:20201101T060000
END:STANDARD
BEGIN:DAYLIGHT
TZOFFSETFROM:-0500
TZOFFSETTO:-0400
TZNAME:EDT
DTSTART:20210314T070000
END:DAYLIGHT
BEGIN:STANDARD
TZOFFSETFROM:-0400
TZOFFSETTO:-0500
TZNAME:EST
DTSTART:20211107T060000
END:STANDARD
BEGIN:DAYLIGHT
TZOFFSETFROM:-0500
TZOFFSETTO:-0400
TZNAME:EDT
DTSTART:20220313T070000
END:DAYLIGHT
BEGIN:STANDARD
TZOFFSETFROM:-0400
TZOFFSETTO:-0500
TZNAME:EST
DTSTART:20221106T060000
END:STANDARD
END:VTIMEZONE
BEGIN:VEVENT
DTSTART;TZID=America/New_York:20211008T123000
DTEND;TZID=America/New_York:20211008T160000
DTSTAMP:20260423T025429
CREATED:20210819T174150Z
LAST-MODIFIED:20210819T174150Z
UID:1088-1633696200-1633708800@www.apalachicolareserve.com
SUMMARY:Apalachicola Bay and Estuary Workshop
DESCRIPTION:Do you know what an estuary is and why it is so vital our economy and way of life? Join the Apalachicola National Estuarine Research Reserve this Fall as we explore the estuary we depend on. Participants will learn about the habitats and creatures that make up our estuary and how the river and bay are intricately connected. We will see these habitats up close aboard the Reserve’s research vessel the Henry Lee. \nThe class cost is free to attend but you must get tickets before class\, as spaces fill up fast. To reserve your spot please follow this link. \nPlease be sure to bring weather appropriate clothing\, and eat lunch in advance. \nIf you have any further questions please contact\nAnita Grove\n(850) 670-7708\nanita.grove@dep.state.fl.us \nor \nJosh Eaton\n(850) 670-7710\njoshua.eaton@floridadep.gov
URL:https://www.apalachicolareserve.com/event/apalachicola-bay-and-estuary-workshop/
LOCATION:Apalachicola National Estuarine Research Reserve\, 108 Island Dr.\, Eastpoint\, FL\, 32328\, United States
END:VEVENT
BEGIN:VEVENT
DTSTART;TZID=America/New_York:20211013T130000
DTEND;TZID=America/New_York:20211013T153000
DTSTAMP:20260423T025429
CREATED:20210819T163551Z
LAST-MODIFIED:20211006T130312Z
UID:1082-1634130000-1634139000@www.apalachicolareserve.com
SUMMARY:Bay Friendly Landscaping
DESCRIPTION:Yard design and maintenance can have a big effect on adjacent water bodies. Participants in this workshop will learn about resources to help them transform their inefficient yard into a luscious bay conscious landscape. The class will also feature information on innovative Green Infrastructure techniques such as rain gardens\, green roofs\, and bio-swales. \nCome find out how to be good to the bay and reduce your water bills! \nPlease register for the class in advance by following this link. \nFor more information contact: \nAnita Grove\n(850) 670-7708\nAnita.Grove@dep.state.fl.us \n-or- \nJosh Eaton\n(850) 670-7710\njoshua.eaton@floridadep.gov
URL:https://www.apalachicolareserve.com/event/bay-friendly-landscaping-2/
LOCATION:Apalachicola National Estuarine Research Reserve\, 108 Island Dr.\, Eastpoint\, FL\, 32328\, United States
END:VEVENT
BEGIN:VEVENT
DTSTART;TZID=America/New_York:20211020T140000
DTEND;TZID=America/New_York:20211020T150000
DTSTAMP:20260423T025429
CREATED:20211018T195029Z
LAST-MODIFIED:20211018T195029Z
UID:1193-1634738400-1634742000@www.apalachicolareserve.com
SUMMARY:Reserve Wednesday: Monarch Butterflies
DESCRIPTION:Migrating Monarch butterflies have found their way to Franklin County once again\, and they’ll be passing through for the next couple months. They can be seen feeding on the nectar of milkweed and other favored flowering plants\, or roosting in trees overnight during the cold snaps. Scott Davis will be giving another Monarch butterfly presentation in our ‘Reserve Wednesday’ series this Wednesday at 2PM at the Apalachicola NERR Nature Center.
URL:https://www.apalachicolareserve.com/event/reserve-wednesday-monarch-butterflies/
LOCATION:Apalachicola National Estuarine Research Reserve\, 108 Island Dr.\, Eastpoint\, FL\, 32328\, United States
END:VEVENT
BEGIN:VEVENT
DTSTART;TZID=America/New_York:20211022T123000
DTEND;TZID=America/New_York:20211022T160000
DTSTAMP:20260423T025429
CREATED:20210819T165711Z
LAST-MODIFIED:20210819T165711Z
UID:1086-1634905800-1634918400@www.apalachicolareserve.com
SUMMARY:Apalachicola River and Floodplain
DESCRIPTION:The Apalachicola River has been called “the Lifeblood of the Bay.” Freshwater from the river mixes with salty gulf creating Apalachicola Bay\, one of the most pristine and productive estuaries in the country. The river has always played an important role in Apalachicola’s history and it is vital to our lives today. It is also a significant resource for the state of Florida\, and its freshwater flow is critical to the health and productivity of the Gulf of Mexico. \nParticipants will learn about the ecology\, culture\, and history of the Apalachicola River and floodplain\, as well as come to appreciate the impact interstate relationships play in the control of the river. After the in-class portion\, participants will embark on a journey up the river aboard the ANERR research vessel Henry Lee to get an up-close look at some of the floodplain ecosystems and distributaries of the river. \nTickets for the class are free but must be claimed in advance by following this link. \nIf you have any further questions\, please do not hesitate to get in touch with either: \nAnita Grove\n(850) 670-7708\nanita.grove@dep.state.fl.us \nor Josh Eaton\n(850) 670-7701\njoshua.eaton@floridadep.gov
URL:https://www.apalachicolareserve.com/event/apalachicola-river-and-floodplain/
LOCATION:Apalachicola National Estuarine Research Reserve\, 108 Island Dr.\, Eastpoint\, FL\, 32328\, United States
END:VEVENT
BEGIN:VEVENT
DTSTART;TZID=America/New_York:20211028T150000
DTEND;TZID=America/New_York:20211028T160000
DTSTAMP:20260423T025429
CREATED:20211004T191731Z
LAST-MODIFIED:20211004T191731Z
UID:1175-1635433200-1635436800@www.apalachicolareserve.com
SUMMARY:Sci-Cafe: Burning Butterfly Questions - The Elfin in the Room with Robert Meyer
DESCRIPTION:Robert Meyer\, a biologist with Tall Timbers will join us to discuss his ongoing research into the relationship between fire and the frosted elfin butterfly. \nThe frosted elfin butterfly (Callophrys iris) is in decline across its range. Luckily\, we have the best known population in our own backyard (the Apalachicola National Forest). This presentation will cover some of the novel efforts taken to understand the ecology of the frosted elfin. It will also look into how fire affects that ecology in sandhill ecosystems. \nTo register for this webinar\, please follow this link: https://attendee.gotowebinar.com/register/6055726734375975180
URL:https://www.apalachicolareserve.com/event/sci-cafe-burning-butterfly-questions-the-elfin-in-the-room-with-robert-meyer/
LOCATION:GoToWebinar\, online
END:VEVENT
END:VCALENDAR