BEGIN:VCALENDAR
VERSION:2.0
PRODID:-//Apalachicola National Estuarine Research Reserve - ECPv6.15.20//NONSGML v1.0//EN
CALSCALE:GREGORIAN
METHOD:PUBLISH
X-ORIGINAL-URL:https://www.apalachicolareserve.com
X-WR-CALDESC:Events for Apalachicola National Estuarine Research Reserve
REFRESH-INTERVAL;VALUE=DURATION:PT1H
X-Robots-Tag:noindex
X-PUBLISHED-TTL:PT1H
BEGIN:VTIMEZONE
TZID:America/New_York
BEGIN:DAYLIGHT
TZOFFSETFROM:-0500
TZOFFSETTO:-0400
TZNAME:EDT
DTSTART:20200308T070000
END:DAYLIGHT
BEGIN:STANDARD
TZOFFSETFROM:-0400
TZOFFSETTO:-0500
TZNAME:EST
DTSTART:20201101T060000
END:STANDARD
BEGIN:DAYLIGHT
TZOFFSETFROM:-0500
TZOFFSETTO:-0400
TZNAME:EDT
DTSTART:20210314T070000
END:DAYLIGHT
BEGIN:STANDARD
TZOFFSETFROM:-0400
TZOFFSETTO:-0500
TZNAME:EST
DTSTART:20211107T060000
END:STANDARD
BEGIN:DAYLIGHT
TZOFFSETFROM:-0500
TZOFFSETTO:-0400
TZNAME:EDT
DTSTART:20220313T070000
END:DAYLIGHT
BEGIN:STANDARD
TZOFFSETFROM:-0400
TZOFFSETTO:-0500
TZNAME:EST
DTSTART:20221106T060000
END:STANDARD
END:VTIMEZONE
BEGIN:VEVENT
DTSTART;TZID=America/New_York:20210706T140000
DTEND;TZID=America/New_York:20210706T150000
DTSTAMP:20260423T070758
CREATED:20210701T155052Z
LAST-MODIFIED:20210701T155052Z
UID:1001-1625580000-1625583600@www.apalachicolareserve.com
SUMMARY:Turtle Talk at the Reserve
DESCRIPTION:Come learn all about our nesting sea turtles and find out how you can help them! Members of the St. George Island Turtle Patrol and the Research staff will be on hand to give a presentation on sea turtles. In addition\, they will provide updates about sea turtle nests on the island\, and answer any questions you may have on how to help our beloved critters. You will also get the chance to touch a sea turtle carapace\, or look close-up at loggerhead sea turtle eggs. This air-conditioned event is a wonderful chance to learn more about sea turtles and is great for anyone visiting the area alone or with family. \nThis event is expected to reach capacity\, we recommend arriving early.
URL:https://www.apalachicolareserve.com/event/turtle-talk-at-the-reserve/
LOCATION:Apalachicola National Estuarine Research Reserve\, 108 Island Dr.\, Eastpoint\, FL\, 32328\, United States
END:VEVENT
BEGIN:VEVENT
DTSTART;TZID=America/New_York:20210713T140000
DTEND;TZID=America/New_York:20210713T150000
DTSTAMP:20260423T070758
CREATED:20210701T155158Z
LAST-MODIFIED:20210707T160857Z
UID:1020-1626184800-1626188400@www.apalachicolareserve.com
SUMMARY:Turtle Talk at the Reserve
DESCRIPTION:Come learn all about our nesting sea turtles and find out how you can help them! Members of the St. George Island Turtle Patrol and the Research staff will be on hand to give a presentation on sea turtles. In addition\, they will provide updates about sea turtle nests on the island\, and answer any questions you may have on how to help our beloved critters. You will also have a chance to get a close-up look at a sea turtle carapace and other biofacts. This air-conditioned event is a wonderful chance to learn more about sea turtles and is great for anyone visiting the area alone or with family. \nThis event is expected to reach capacity\, we recommend arriving early.
URL:https://www.apalachicolareserve.com/event/turtle-talk-at-the-reserve-2/
LOCATION:Apalachicola National Estuarine Research Reserve\, 108 Island Dr.\, Eastpoint\, FL\, 32328\, United States
END:VEVENT
BEGIN:VEVENT
DTSTART;TZID=America/New_York:20210720T140000
DTEND;TZID=America/New_York:20210720T150000
DTSTAMP:20260423T070758
CREATED:20210701T155234Z
LAST-MODIFIED:20210707T160843Z
UID:1022-1626789600-1626793200@www.apalachicolareserve.com
SUMMARY:Turtle Talk at the Reserve
DESCRIPTION:Come learn all about our nesting sea turtles and find out how you can help them! Members of the St. George Island Turtle Patrol and the Research staff will be on hand to give a presentation on sea turtles. In addition\, they will provide updates about sea turtle nests on the island\, and answer any questions you may have on how to help our beloved critters. You will also have a chance to get a close-up look at a sea turtle carapace and other biofacts. This air-conditioned event is a wonderful chance to learn more about sea turtles and is great for anyone visiting the area alone or with family. \nThis event is expected to reach capacity\, we recommend arriving early.
URL:https://www.apalachicolareserve.com/event/turtle-talk-at-the-reserve-3/
LOCATION:Apalachicola National Estuarine Research Reserve\, 108 Island Dr.\, Eastpoint\, FL\, 32328\, United States
END:VEVENT
BEGIN:VEVENT
DTSTART;TZID=America/New_York:20210722T150000
DTEND;TZID=America/New_York:20210722T160000
DTSTAMP:20260423T070758
CREATED:20210720T132512Z
LAST-MODIFIED:20210720T133236Z
UID:1039-1626966000-1626969600@www.apalachicolareserve.com
SUMMARY:Sci-Cafe' - Tate's Hell Restoration
DESCRIPTION:Dr. Paul Medley\, GIS Program Manager for USDA National Forests in Florida\, will describe the project and the progress that has been made on the Apalachicola Regional Restoration Initiative. The Initiative is a long-term\, collaborative project focused on restoring the ecosystems surrounding the Apalachicola River and Apalachicola Bay. The first phase (2017-2022) is underway and involves hydrologic restoration on Tate’s Hell State Forest and the spatial assessment of hydrologic and ecological restoration needs in the Apalachicola region. This talk will focus on the spatial planning tools and products developed for ARRI Strategy 1 through a collaboration between the USDA Forest Service and Florida A&M University at the Center for Spatial Ecology and Restoration (CSER). ARRI Strategies 2 & 3 will build upon these efforts to help restore longleaf pine\, coastal ecosystems\, and hydrology within the Apalachicola Region of Florida. \nThis virtual Sci-Cafe’ will take place on Microsoft Teams. Simply go to the link below at 3pm Thursday\, July 22nd to participate. \nTate’s Hell Sci-Cafe \nIf you have any questions please contact Josh Eaton at joshua.eaton@floridadep.gov
URL:https://www.apalachicolareserve.com/event/tates_hell/
LOCATION:FL
END:VEVENT
BEGIN:VEVENT
DTSTART;TZID=America/New_York:20210727T140000
DTEND;TZID=America/New_York:20210727T150000
DTSTAMP:20260423T070758
CREATED:20210701T155310Z
LAST-MODIFIED:20210707T160816Z
UID:1024-1627394400-1627398000@www.apalachicolareserve.com
SUMMARY:Turtle Talk at the Reserve
DESCRIPTION:Come learn all about our nesting sea turtles and find out how you can help them! Members of the St. George Island Turtle Patrol and the Research staff will be on hand to give a presentation on sea turtles. In addition\, they will provide updates about sea turtle nests on the island\, and answer any questions you may have on how to help our beloved critters. You will also have a chance to get a close-up look at a sea turtle carapace and other biofacts. This air-conditioned event is a wonderful chance to learn more about sea turtles and is great for anyone visiting the area alone or with family. \nThis event is expected to reach capacity\, we recommend arriving early.
URL:https://www.apalachicolareserve.com/event/turtle-talk-at-the-reserve-4/
LOCATION:Apalachicola National Estuarine Research Reserve\, 108 Island Dr.\, Eastpoint\, FL\, 32328\, United States
END:VEVENT
END:VCALENDAR