BEGIN:VCALENDAR
VERSION:2.0
PRODID:-//Apalachicola National Estuarine Research Reserve - ECPv6.15.20//NONSGML v1.0//EN
CALSCALE:GREGORIAN
METHOD:PUBLISH
X-ORIGINAL-URL:https://www.apalachicolareserve.com
X-WR-CALDESC:Events for Apalachicola National Estuarine Research Reserve
REFRESH-INTERVAL;VALUE=DURATION:PT1H
X-Robots-Tag:noindex
X-PUBLISHED-TTL:PT1H
BEGIN:VTIMEZONE
TZID:America/New_York
BEGIN:DAYLIGHT
TZOFFSETFROM:-0500
TZOFFSETTO:-0400
TZNAME:EDT
DTSTART:20200308T070000
END:DAYLIGHT
BEGIN:STANDARD
TZOFFSETFROM:-0400
TZOFFSETTO:-0500
TZNAME:EST
DTSTART:20201101T060000
END:STANDARD
BEGIN:DAYLIGHT
TZOFFSETFROM:-0500
TZOFFSETTO:-0400
TZNAME:EDT
DTSTART:20210314T070000
END:DAYLIGHT
BEGIN:STANDARD
TZOFFSETFROM:-0400
TZOFFSETTO:-0500
TZNAME:EST
DTSTART:20211107T060000
END:STANDARD
BEGIN:DAYLIGHT
TZOFFSETFROM:-0500
TZOFFSETTO:-0400
TZNAME:EDT
DTSTART:20220313T070000
END:DAYLIGHT
BEGIN:STANDARD
TZOFFSETFROM:-0400
TZOFFSETTO:-0500
TZNAME:EST
DTSTART:20221106T060000
END:STANDARD
END:VTIMEZONE
BEGIN:VEVENT
DTSTART;TZID=America/New_York:20210522T080000
DTEND;TZID=America/New_York:20210522T170000
DTSTAMP:20260423T094424
CREATED:20210506T154838Z
LAST-MODIFIED:20210506T155631Z
UID:972-1621670400-1621702800@www.apalachicolareserve.com
SUMMARY:Sea Urchin Roundup
DESCRIPTION:Help collect live urchins from St. Joseph Bay in a roundup beginning at 8 a.m. on Saturday\, May 22\, 2021.\nThe collected urchins – which destroy seagrasses by overgrazing – will be relocated to deeper water by the Florida Department of Environmental Protection and the Florida Fish and Wildlife Conservation Commission. \nEvent Information\nRegister at Frank Pate City Boatramp (located at corner of US 98 and US 71 in Port St. Joe) \n\nCheck in begins at 8am.\nBYO boat and snorkeling gear\, organizers will provide gloves and buckets.\nUpon registration\, volunteers will be directed to the rendezvous point\, marked by a large\, red balloon.\nVolunteers will be provided maps and GPS coordinates that show where to collect urchins.\nBuckets filled with urchins and seawater must be returned to check-in point by 5pm.\n\nFor More Information:\nVisit: FWC’s Urchin Project\n-or-\nemail: StJoeBayUrchins@MyFWC.com \nAdditional Contact:\nDEP’s St. Joseph Bay Aquatic Preserve Manager Jon Brucker at Jonathan.Brucker@FloridaDEP.gov \nRCP Sea Urchin Roundup Flyer
URL:https://www.apalachicolareserve.com/event/sea-urchin-roundup/
LOCATION:Frank Pate City Boatramp\, US-98 and US-71\, Port St. Joe\, 32456\, Austria
ORGANIZER;CN="St. Joseph Bay Aquatic Preserve":MAILTO:Jonathan.Brucker@FloridaDEP.gov
END:VEVENT
END:VCALENDAR