BEGIN:VCALENDAR
VERSION:2.0
PRODID:-//Apalachicola National Estuarine Research Reserve - ECPv6.15.20//NONSGML v1.0//EN
CALSCALE:GREGORIAN
METHOD:PUBLISH
X-WR-CALNAME:Apalachicola National Estuarine Research Reserve
X-ORIGINAL-URL:https://www.apalachicolareserve.com
X-WR-CALDESC:Events for Apalachicola National Estuarine Research Reserve
REFRESH-INTERVAL;VALUE=DURATION:PT1H
X-Robots-Tag:noindex
X-PUBLISHED-TTL:PT1H
BEGIN:VTIMEZONE
TZID:America/New_York
BEGIN:DAYLIGHT
TZOFFSETFROM:-0500
TZOFFSETTO:-0400
TZNAME:EDT
DTSTART:20200308T070000
END:DAYLIGHT
BEGIN:STANDARD
TZOFFSETFROM:-0400
TZOFFSETTO:-0500
TZNAME:EST
DTSTART:20201101T060000
END:STANDARD
BEGIN:DAYLIGHT
TZOFFSETFROM:-0500
TZOFFSETTO:-0400
TZNAME:EDT
DTSTART:20210314T070000
END:DAYLIGHT
BEGIN:STANDARD
TZOFFSETFROM:-0400
TZOFFSETTO:-0500
TZNAME:EST
DTSTART:20211107T060000
END:STANDARD
BEGIN:DAYLIGHT
TZOFFSETFROM:-0500
TZOFFSETTO:-0400
TZNAME:EDT
DTSTART:20220313T070000
END:DAYLIGHT
BEGIN:STANDARD
TZOFFSETFROM:-0400
TZOFFSETTO:-0500
TZNAME:EST
DTSTART:20221106T060000
END:STANDARD
END:VTIMEZONE
BEGIN:VEVENT
DTSTART;TZID=America/New_York:20210429T150000
DTEND;TZID=America/New_York:20210429T160000
DTSTAMP:20260423T110439
CREATED:20210122T200156Z
LAST-MODIFIED:20210122T200156Z
UID:911-1619708400-1619712000@www.apalachicolareserve.com
SUMMARY:Online SciCafe: Oyster Corps Overview
DESCRIPTION:Kim Wren\, the Assistant Manager for the Apalachicola National Estuarine Research Reserve\, and Joe Taylor\, the Executive Director of Franklin’s Promise Coalition\, will give an introduction and overview of the newly formed Oyster Corps. The Oyster Corps is an offshoot of the Forgotten Coast Conservation Corps and will work with youth\, young adults\, and veterans to reshell the Apalachicola Bay. Please register for Sci-Café Virtual Series: The Oyster Corps on April 29th\, 2021 3:00pm on GoToWebinar. After registering\, you will receive a confirmation email containing information about joining the webinar.
URL:https://www.apalachicolareserve.com/event/online-scicafe-oyster-corps-overview/
LOCATION:GoToWebinar\, online
CATEGORIES:Webinar
END:VEVENT
END:VCALENDAR