BEGIN:VCALENDAR
VERSION:2.0
PRODID:-//Apalachicola National Estuarine Research Reserve - ECPv6.15.20//NONSGML v1.0//EN
CALSCALE:GREGORIAN
METHOD:PUBLISH
X-WR-CALNAME:Apalachicola National Estuarine Research Reserve
X-ORIGINAL-URL:https://www.apalachicolareserve.com
X-WR-CALDESC:Events for Apalachicola National Estuarine Research Reserve
REFRESH-INTERVAL;VALUE=DURATION:PT1H
X-Robots-Tag:noindex
X-PUBLISHED-TTL:PT1H
BEGIN:VTIMEZONE
TZID:America/New_York
BEGIN:DAYLIGHT
TZOFFSETFROM:-0500
TZOFFSETTO:-0400
TZNAME:EDT
DTSTART:20200308T070000
END:DAYLIGHT
BEGIN:STANDARD
TZOFFSETFROM:-0400
TZOFFSETTO:-0500
TZNAME:EST
DTSTART:20201101T060000
END:STANDARD
BEGIN:DAYLIGHT
TZOFFSETFROM:-0500
TZOFFSETTO:-0400
TZNAME:EDT
DTSTART:20210314T070000
END:DAYLIGHT
BEGIN:STANDARD
TZOFFSETFROM:-0400
TZOFFSETTO:-0500
TZNAME:EST
DTSTART:20211107T060000
END:STANDARD
BEGIN:DAYLIGHT
TZOFFSETFROM:-0500
TZOFFSETTO:-0400
TZNAME:EDT
DTSTART:20220313T070000
END:DAYLIGHT
BEGIN:STANDARD
TZOFFSETFROM:-0400
TZOFFSETTO:-0500
TZNAME:EST
DTSTART:20221106T060000
END:STANDARD
END:VTIMEZONE
BEGIN:VEVENT
DTSTART;TZID=America/New_York:20210325T150000
DTEND;TZID=America/New_York:20210325T160000
DTSTAMP:20260423T122426
CREATED:20210122T200441Z
LAST-MODIFIED:20210122T200441Z
UID:915-1616684400-1616688000@www.apalachicolareserve.com
SUMMARY:Online SciCafe: Restoration of MK Ranch
DESCRIPTION:Please register for Sci-Café Virtual Series: Apalachicola Bay Systems Initiative on Feb 25\, 2021 3:00 PM EST on GoToWebinar. After registering\, you will receive a confirmation email containing information about joining the webinar.
URL:https://www.apalachicolareserve.com/event/online-scicafe-restoration-of-mk-ranch/
LOCATION:GoToWebinar\, online
CATEGORIES:Webinar
END:VEVENT
END:VCALENDAR