BEGIN:VCALENDAR
VERSION:2.0
PRODID:-//Apalachicola National Estuarine Research Reserve - ECPv6.15.20//NONSGML v1.0//EN
CALSCALE:GREGORIAN
METHOD:PUBLISH
X-ORIGINAL-URL:https://www.apalachicolareserve.com
X-WR-CALDESC:Events for Apalachicola National Estuarine Research Reserve
REFRESH-INTERVAL;VALUE=DURATION:PT1H
X-Robots-Tag:noindex
X-PUBLISHED-TTL:PT1H
BEGIN:VTIMEZONE
TZID:America/New_York
BEGIN:DAYLIGHT
TZOFFSETFROM:-0500
TZOFFSETTO:-0400
TZNAME:EDT
DTSTART:20190310T070000
END:DAYLIGHT
BEGIN:STANDARD
TZOFFSETFROM:-0400
TZOFFSETTO:-0500
TZNAME:EST
DTSTART:20191103T060000
END:STANDARD
BEGIN:DAYLIGHT
TZOFFSETFROM:-0500
TZOFFSETTO:-0400
TZNAME:EDT
DTSTART:20200308T070000
END:DAYLIGHT
BEGIN:STANDARD
TZOFFSETFROM:-0400
TZOFFSETTO:-0500
TZNAME:EST
DTSTART:20201101T060000
END:STANDARD
BEGIN:DAYLIGHT
TZOFFSETFROM:-0500
TZOFFSETTO:-0400
TZNAME:EDT
DTSTART:20210314T070000
END:DAYLIGHT
BEGIN:STANDARD
TZOFFSETFROM:-0400
TZOFFSETTO:-0500
TZNAME:EST
DTSTART:20211107T060000
END:STANDARD
END:VTIMEZONE
BEGIN:VEVENT
DTSTART;VALUE=DATE:20200919
DTEND;VALUE=DATE:20200927
DTSTAMP:20260423T185327
CREATED:20200910T124501Z
LAST-MODIFIED:20200910T125124Z
UID:786-1600473600-1601164799@www.apalachicolareserve.com
SUMMARY:Apalachicola NERR Hosts Virtual Estuaries Week for 2020
DESCRIPTION:The Apalachicola NERR welcomes Franklin County to attend Virtual National Estuaries Day this September! As a measure of public safety\, National Estuaries Day at the Reserve – which usually draws 800 people – has moved online this year. The mission of National Estuaries Day is to connect people with the estuarine community that supports the life of thousands of species\, including us\, the humans that live off the bay. Annually in the past\, that mission was accomplished by inviting students\, families and experts alike to gather in one place for one day to share knowledge about the bay and enthusiasm for its conservation. This year\, we are taking the opportunity to expand the scope from just one day at the Apalachicola NERR Nature Center to a whole week around the entire Apalachicola Bay watershed. \nWHAT:   Virtual Estuaries Week Online Celebration and Remote BioBlitz\nWHEN:   Virtual Estuaries Week Activities – Sept. 19-26\, 2020\nLive BioBlitz at St. George Island State Park – Saturday\, Sept. 26\, 2020\, 9 a.m. to 3 p.m. \nJoin us virtually for our celebration of the Estuary beginning on Sept. 19 right here at www.apalachicolareserve.com. There will be video tours\, virtual field experiences\, downloadable/printable activity sheets\, and a weeklong digital BioBlitz that you can participate in by downloading the ‘iNaturalist’ app or ‘Seek by iNaturalist’ and uploading any species you find around the whole Reserve! \nFor details about the apps: \n\nSeek by iNaturalist: https://www.inaturalist.org/pages/seek_app\niNaturalist: https://www.inaturalist.org\n\nTo check up on the status of the BioBlitz\, check out: \n\nhttps://www.inaturalist.org/projects/apalachicola-nerr-virtual-estuaries-day-bioblitz\n\nThere will be one day of in-person activities on Saturday\, Sept. 26. Registration on Eventbrite will be required in advance (Direct link: https://www.eventbrite.com/e/apalachicola-nerr-estuaries-day-in-person-bioblitz-tickets-119625295479\, or go to https://apalachicolareserve.eventbrite.com and look for the “In-Person BioBlitz” event). The event will take place at St. George Island State Park from 9 a.m to 3 p.m.\, but your group’s participation in all activities will only take about two hours. Groups of no more than 10 people will visit three stations. Proper precautions following CDC guidelines will be in place\, including a hand-washing and hand sanitizer station\, social distancing\, and mask enforcement for staff and participants. There will be 15 minutes between groups to clean and sanitize any equipment as necessary. During visits to each of the stations\, participants will be able to receive coaching in using the Seek app and be provided with opportunities to find and identify species in three distinct habitats on St. George Island. The event is free\, but participants will need to pay admission fees at the State Park entrance.
URL:https://www.apalachicolareserve.com/event/apalachicola-nerr-hosts-virtual-estuaries-week-for-2020/
LOCATION:FL\, United States
END:VEVENT
END:VCALENDAR