BEGIN:VCALENDAR
VERSION:2.0
PRODID:-//Apalachicola National Estuarine Research Reserve - ECPv6.15.20//NONSGML v1.0//EN
CALSCALE:GREGORIAN
METHOD:PUBLISH
X-WR-CALNAME:Apalachicola National Estuarine Research Reserve
X-ORIGINAL-URL:https://www.apalachicolareserve.com
X-WR-CALDESC:Events for Apalachicola National Estuarine Research Reserve
REFRESH-INTERVAL;VALUE=DURATION:PT1H
X-Robots-Tag:noindex
X-PUBLISHED-TTL:PT1H
BEGIN:VTIMEZONE
TZID:America/New_York
BEGIN:DAYLIGHT
TZOFFSETFROM:-0500
TZOFFSETTO:-0400
TZNAME:EDT
DTSTART:20190310T070000
END:DAYLIGHT
BEGIN:STANDARD
TZOFFSETFROM:-0400
TZOFFSETTO:-0500
TZNAME:EST
DTSTART:20191103T060000
END:STANDARD
BEGIN:DAYLIGHT
TZOFFSETFROM:-0500
TZOFFSETTO:-0400
TZNAME:EDT
DTSTART:20200308T070000
END:DAYLIGHT
BEGIN:STANDARD
TZOFFSETFROM:-0400
TZOFFSETTO:-0500
TZNAME:EST
DTSTART:20201101T060000
END:STANDARD
BEGIN:DAYLIGHT
TZOFFSETFROM:-0500
TZOFFSETTO:-0400
TZNAME:EDT
DTSTART:20210314T070000
END:DAYLIGHT
BEGIN:STANDARD
TZOFFSETFROM:-0400
TZOFFSETTO:-0500
TZNAME:EST
DTSTART:20211107T060000
END:STANDARD
END:VTIMEZONE
BEGIN:VEVENT
DTSTART;TZID=America/New_York:20200115T140000
DTEND;TZID=America/New_York:20200115T150000
DTSTAMP:20260423T185320
CREATED:20200106T165716Z
LAST-MODIFIED:20200106T165716Z
UID:648-1579096800-1579100400@www.apalachicolareserve.com
SUMMARY:Reserve Wednesday: Wildlife Rehabilitation
DESCRIPTION:The Florida Wild Mammal Association has operated as a non-profit wildlife rehabilitation facility since 1994. Dedicated to the rescue\, rehabilitation and release of sick\, injured and orphaned wildlife in the North Florida region of the panhandle\, FWMA provides care for all types of native wildlife including birds\, mammals\, and reptiles. Between 700 and 1000 animals are brought to the facility annually for treatment and rehabilitation. Come to the Apalachicola NERR Nature Center on Wednesday\, January 15 to hear Jess Beatty\, wildlife rehabilitator\, talk about their mission and practice\, and have a chance to meet some of the FWMA wildlife ambassadors.
URL:https://www.apalachicolareserve.com/event/reserve-wednesday-wildlife-rehabilitation/
LOCATION:Apalachicola National Estuarine Research Reserve\, 108 Island Dr.\, Eastpoint\, FL\, 32328\, United States
END:VEVENT
BEGIN:VEVENT
DTSTART;TZID=America/New_York:20200128T180000
DTEND;TZID=America/New_York:20200128T200000
DTSTAMP:20260423T185320
CREATED:20200122T145059Z
LAST-MODIFIED:20200122T145059Z
UID:673-1580234400-1580241600@www.apalachicolareserve.com
SUMMARY:Sci-Cafe: Living Shorelines in Action
DESCRIPTION:(Presented at Eastpoint Beer Company – 374 US 98 Eastpoint\, FL) \nLiving shorelines represent a sea change in the way that people are looking to best protect their waterfront property from the destructive forces of erosion. Instead of using “hard” armored surfaces of concrete or rip-rap this more natural method is taking over. This method uses the same principles as wetland marsh by using seagrass roots to anchor soils and to provide a habitat for living creatures. Come find out about this relatively low cost alternative to concrete that is taking over! \nNo registration required but seating is limited. Show up early to enjoy the fantastic views.
URL:https://www.apalachicolareserve.com/event/sci-cafe-living-shorelines-in-action/
LOCATION:Eastpoint Beer Company\, 374 US 98\, Eastpoint\, FL\, 32328\, United States
END:VEVENT
BEGIN:VEVENT
DTSTART;TZID=America/New_York:20200129T130000
DTEND;TZID=America/New_York:20200129T153000
DTSTAMP:20260423T185320
CREATED:20191213T153547Z
LAST-MODIFIED:20191230T203222Z
UID:579-1580302800-1580311800@www.apalachicolareserve.com
SUMMARY:Bay Friendly Landscaping
DESCRIPTION:Yard design and maintenance can have a big effect on adjacent water bodies. Participants in this workshop will learn about resources to help them transform their yard into a luscious bay conscious landscape. The class will also feature innovative Green Infrastructure techniques such as rain gardens\, green roofs\, and bio-swales. Come find out how to be good to the bay and reduce your water bills. \nThe class is free but please register in advance on our Eventbrite page found here. We look forward to seeing you! \nAny questions can be addressed to Anita Grove through email at anita.grove@dep.state.fl.us or phone at (850)670-7708 or contact Josh Eaton through email at joshua.eaton@floridadep.gov or phone at (850)670-7710.
URL:https://www.apalachicolareserve.com/event/bay-friendly-landscaping-3/
LOCATION:Apalachicola National Estuarine Research Reserve\, 108 Island Dr.\, Eastpoint\, FL\, 32328\, United States
END:VEVENT
END:VCALENDAR